BEGIN:VCALENDAR
VERSION:2.0
PRODID:-//The Kitchen Cupboard and Icebox - ECPv6.15.20//NONSGML v1.0//EN
CALSCALE:GREGORIAN
METHOD:PUBLISH
X-ORIGINAL-URL:https://shopkci.ca
X-WR-CALDESC:Events for The Kitchen Cupboard and Icebox
REFRESH-INTERVAL;VALUE=DURATION:PT1H
X-Robots-Tag:noindex
X-PUBLISHED-TTL:PT1H
BEGIN:VTIMEZONE
TZID:America/Toronto
BEGIN:DAYLIGHT
TZOFFSETFROM:-0500
TZOFFSETTO:-0400
TZNAME:EDT
DTSTART:20240310T070000
END:DAYLIGHT
BEGIN:STANDARD
TZOFFSETFROM:-0400
TZOFFSETTO:-0500
TZNAME:EST
DTSTART:20241103T060000
END:STANDARD
BEGIN:DAYLIGHT
TZOFFSETFROM:-0500
TZOFFSETTO:-0400
TZNAME:EDT
DTSTART:20250309T070000
END:DAYLIGHT
BEGIN:STANDARD
TZOFFSETFROM:-0400
TZOFFSETTO:-0500
TZNAME:EST
DTSTART:20251102T060000
END:STANDARD
BEGIN:DAYLIGHT
TZOFFSETFROM:-0500
TZOFFSETTO:-0400
TZNAME:EDT
DTSTART:20260308T070000
END:DAYLIGHT
BEGIN:STANDARD
TZOFFSETFROM:-0400
TZOFFSETTO:-0500
TZNAME:EST
DTSTART:20261101T060000
END:STANDARD
BEGIN:DAYLIGHT
TZOFFSETFROM:-0500
TZOFFSETTO:-0400
TZNAME:EDT
DTSTART:20270314T070000
END:DAYLIGHT
BEGIN:STANDARD
TZOFFSETFROM:-0400
TZOFFSETTO:-0500
TZNAME:EST
DTSTART:20271107T060000
END:STANDARD
END:VTIMEZONE
BEGIN:VEVENT
DTSTART;TZID=America/Toronto:20251222T090000
DTEND;TZID=America/Toronto:20260102T090000
DTSTAMP:20260422T064844
CREATED:20251217T160259Z
LAST-MODIFIED:20251218T003648Z
UID:2837702-1766394000-1767344400@shopkci.ca
SUMMARY:Holiday Store Hours
DESCRIPTION:Monday Dec. 22. 9-7 open late \nTuesday Dec. 23 9-7 open late \nWednesday Dec. 24 9-3 \nThursday Dec. 25 closed \nFriday Dec. 26 closed \nSaturday Dec. 27 9-4 \nMonday Dec. 29 9-6 \nTuesday Dec. 30 9-6 \nWednesday Dec.31 9-3 \nThursday Jan. 1 closed \n 
URL:https://shopkci.ca/event/holiday-store-hours/
END:VEVENT
BEGIN:VEVENT
DTSTART;TZID=America/Toronto:20251127T080000
DTEND;TZID=America/Toronto:20251213T180000
DTSTAMP:20260422T064844
CREATED:20251127T164643Z
LAST-MODIFIED:20251127T164717Z
UID:2837459-1764230400-1765648800@shopkci.ca
SUMMARY:Shop Small Holiday Fest ~ Bundle Up & Save A Bundle!
DESCRIPTION:Our Shop Small Holiday is on now!\nBundle up & save a bundle — shop local and enjoy some incredible holiday savings!\n\nBuy 2 Christmas products\, Get 1 Free!\n(Excludes food\, paper napkins\, sale items\, and electrics.)
URL:https://shopkci.ca/event/shop-small-holiday-fest-bundle-up-save-a-bundle/
END:VEVENT
BEGIN:VEVENT
DTSTART;TZID=America/Toronto:20251113T090000
DTEND;TZID=America/Toronto:20251115T160000
DTSTAMP:20260422T064844
CREATED:20251111T175029Z
LAST-MODIFIED:20251112T163823Z
UID:2837176-1763024400-1763222400@shopkci.ca
SUMMARY:Christmas Open House
DESCRIPTION:You’re Invited to Our Culinary Christmas Open House!\nSip\, shop\, and savour local flavours while exploring our newest winter arrivals and holiday favourites. \nEvent Hours: \nThursday Nov.13   9–6\nFriday Nov.14   9–8 (extended hours)\nSaturday Nov.15  9–4 \nEnjoy Save the Tax all 3 days (sale items & electrics excluded) — and stay tuned for a free gift with purchase offer\, our way of saying thank you for shopping local with KCI.  \nThe Kitchen Cupboard and Icebox \n105 Elizabeth St W\, Listowel \n519-291-4777
URL:https://shopkci.ca/event/christmas-open-house/
ATTACH;FMTTYPE=image/jpeg:https://shopkci.ca/wp-content/uploads/2025/11/KCI-Christmas-2025new.jpg
END:VEVENT
BEGIN:VEVENT
DTSTART;VALUE=DATE:20251011
DTEND;VALUE=DATE:20251101
DTSTAMP:20260422T064844
CREATED:20251011T161054Z
LAST-MODIFIED:20251016T195658Z
UID:2836751-1760140800-1761955199@shopkci.ca
SUMMARY:Souper Fundraiser ~ With a twist...
DESCRIPTION:Join Our Souper Fundraiser — Now With a Delicious New Twist! \nEvery fall\, we team up with our community to support Listowel Memorial Hospital through our annual Souper Fundraiser — and this year\, we’re stirring things up in the best way possible! \nJoin our brand new “Souper Mug Club”! When you purchase a limited-edition Souper Mug\, you’re not just getting a cozy new way to enjoy your soup — you’re also getting a coupon for one free soup every month for an entire year. That’s 12 delicious bowls of comfort from our kitchen to yours! \nBest of all\, proceeds from every mug sold go directly to the Listowel Memorial Hospital\, helping fund life-saving care and vital local health services. \nHow it works: \n1.      Purchase your Souper Mug for $29.99* — but hurry\, quantities are limited! \n2.      Receive your Souper Mug Club Coupon\, good for one free soup every month (a $100 value when paired with your mug!). \nKnow that with every bowl\, you’re making a difference in our community.\nThis isn’t just soup — it’s warmth\, comfort\, and community support all year long. \n*mugs are ordered and should arrive the the beginning of November for pick up.
URL:https://shopkci.ca/event/souper-fundraiser-with-a-twist/
END:VEVENT
END:VCALENDAR